BEGIN:VCALENDAR
VERSION:2.0
PRODID:-//SVP Baselland //NONSGML Events //EN
CALSCALE:GREGORIAN
X-WR-CALNAME:SVP Baselland
BEGIN:VEVENT
CREATED:20220707T082140Z
UID:17370
DTEND:20220731T200000
DTSTART:20220731T190000
DTSTAMP:20231024T162229Z
LOCATION:Pratteln
DESCRIPTION:asdjkfh alskjdhf lasdkfh adslkhjfas dkjfhj
SUMMARY:Test-Veranstaltung
ORGANIZER:
URL;VALUE=URI:https://www.svp-bl.ch/termine/test-veranstaltung/
TRANSP:OPAQUE
END:VEVENT
END:VCALENDAR
