BEGIN:VCALENDAR
VERSION:2.0
PRODID:-//SVP Baselland //NONSGML Events //EN
CALSCALE:GREGORIAN
X-WR-CALNAME:SVP Baselland
BEGIN:VEVENT
CREATED:20220727T103217Z
UID:17470
DTEND:20220815T000000
DTSTART:20220815T000000
DTSTAMP:20231024T162224Z
LOCATION:uptownBasel in Arlesheim
DESCRIPTION:
SUMMARY:Parteitag SVP BL
ORGANIZER:
URL;VALUE=URI:https://www.svp-bl.ch/termine/parteitag-svp-bl/
TRANSP:OPAQUE
END:VEVENT
END:VCALENDAR
