BEGIN:VCALENDAR
VERSION:2.0
PRODID:-//SVP Baselland //NONSGML Events //EN
CALSCALE:GREGORIAN
X-WR-CALNAME:SVP Baselland
BEGIN:VEVENT
CREATED:20220727T103217Z
UID:17471
DTEND:20220820T000000
DTSTART:20220820T000000
DTSTAMP:20231024T162230Z
LOCATION:Baar (ZG)
DESCRIPTION:
SUMMARY:Delegiertenversammlung SVP Schweiz
ORGANIZER:
URL;VALUE=URI:https://www.svp-bl.ch/termine/delegiertenversammlung-svp-schweiz/
TRANSP:OPAQUE
END:VEVENT
END:VCALENDAR
