BEGIN:VCALENDAR
VERSION:2.0
PRODID:-//SVP Baselland //NONSGML Events //EN
CALSCALE:GREGORIAN
X-WR-CALNAME:SVP Baselland
BEGIN:VEVENT
CREATED:20220727T103217Z
UID:17472
DTEND:20220901T000000
DTSTART:20220901T000000
DTSTAMP:20231024T162223Z
LOCATION:Regierungsgebäude Rathausstrasse 2 | CH-4410 Liestal
DESCRIPTION:
SUMMARY:Landrat inkl. Fraktionssitzung
ORGANIZER:
URL;VALUE=URI:https://www.svp-bl.ch/termine/landrat-inkl-fraktionssitzung/
TRANSP:OPAQUE
END:VEVENT
END:VCALENDAR
