BEGIN:VCALENDAR
VERSION:2.0
PRODID:-//SVP Baselland //NONSGML Events //EN
CALSCALE:GREGORIAN
X-WR-CALNAME:SVP Baselland
BEGIN:VEVENT
CREATED:20220727T103217Z
UID:17477
DTEND:20220925T000000
DTSTART:20220925T000000
DTSTAMP:20231024T162221Z
LOCATION:
DESCRIPTION:
SUMMARY:Abstimmungen
ORGANIZER:
URL;VALUE=URI:https://www.svp-bl.ch/termine/abstimmungen/
TRANSP:OPAQUE
END:VEVENT
END:VCALENDAR
