BEGIN:VCALENDAR
VERSION:2.0
PRODID:-//SVP Baselland //NONSGML Events //EN
CALSCALE:GREGORIAN
X-WR-CALNAME:SVP Baselland
BEGIN:VEVENT
CREATED:20220727T103217Z
UID:17478
DTEND:20221020T000000
DTSTART:20221020T000000
DTSTAMP:20231024T162226Z
LOCATION:
DESCRIPTION:
SUMMARY:Parteitag SVP BL
ORGANIZER:
URL;VALUE=URI:https://www.svp-bl.ch/termine/parteitag-svp-bl-2/
TRANSP:OPAQUE
END:VEVENT
END:VCALENDAR
