BEGIN:VCALENDAR
VERSION:2.0
PRODID:-//SVP Baselland //NONSGML Events //EN
CALSCALE:GREGORIAN
X-WR-CALNAME:SVP Baselland
BEGIN:VEVENT
CREATED:20220727T103218Z
UID:17484
DTEND:20221122T000000
DTSTART:20221122T000000
DTSTAMP:20231024T162223Z
LOCATION:
DESCRIPTION:
SUMMARY:Abstimmungen
ORGANIZER:
URL;VALUE=URI:https://www.svp-bl.ch/termine/abstimmungen-2/
TRANSP:OPAQUE
END:VEVENT
END:VCALENDAR
