BEGIN:VCALENDAR
VERSION:2.0
PRODID:-//SVP Baselland //NONSGML Events //EN
CALSCALE:GREGORIAN
X-WR-CALNAME:SVP Baselland
BEGIN:VEVENT
CREATED:20220727T103218Z
UID:17485
DTEND:20221202T000000
DTSTART:20221202T000000
DTSTAMP:20231024T162225Z
LOCATION:Regierungsgebäude Rathausstrasse 2 | CH-4410 Liestal
DESCRIPTION:
SUMMARY:Landrat inkl. Fraktionssitzung
ORGANIZER:
URL;VALUE=URI:https://www.svp-bl.ch/termine/landrat-inkl-fraktionssitzung-7/
TRANSP:OPAQUE
END:VEVENT
END:VCALENDAR
